BEGIN:VCALENDAR
VERSION:2.0
PRODID:-//Tropical Diaspora Records® - ECPv6.15.15//NONSGML v1.0//EN
CALSCALE:GREGORIAN
METHOD:PUBLISH
X-WR-CALNAME:Tropical Diaspora Records®
X-ORIGINAL-URL:https://roots.tdrgo.co
X-WR-CALDESC:Events for Tropical Diaspora Records®
REFRESH-INTERVAL;VALUE=DURATION:PT1H
X-Robots-Tag:noindex
X-PUBLISHED-TTL:PT1H
BEGIN:VTIMEZONE
TZID:Europe/Paris
BEGIN:DAYLIGHT
TZOFFSETFROM:+0100
TZOFFSETTO:+0200
TZNAME:CEST
DTSTART:20150329T010000
END:DAYLIGHT
BEGIN:STANDARD
TZOFFSETFROM:+0200
TZOFFSETTO:+0100
TZNAME:CET
DTSTART:20151025T010000
END:STANDARD
BEGIN:DAYLIGHT
TZOFFSETFROM:+0100
TZOFFSETTO:+0200
TZNAME:CEST
DTSTART:20160327T010000
END:DAYLIGHT
BEGIN:STANDARD
TZOFFSETFROM:+0200
TZOFFSETTO:+0100
TZNAME:CET
DTSTART:20161030T010000
END:STANDARD
BEGIN:DAYLIGHT
TZOFFSETFROM:+0100
TZOFFSETTO:+0200
TZNAME:CEST
DTSTART:20170326T010000
END:DAYLIGHT
BEGIN:STANDARD
TZOFFSETFROM:+0200
TZOFFSETTO:+0100
TZNAME:CET
DTSTART:20171029T010000
END:STANDARD
BEGIN:DAYLIGHT
TZOFFSETFROM:+0100
TZOFFSETTO:+0200
TZNAME:CEST
DTSTART:20180325T010000
END:DAYLIGHT
BEGIN:STANDARD
TZOFFSETFROM:+0200
TZOFFSETTO:+0100
TZNAME:CET
DTSTART:20181028T010000
END:STANDARD
BEGIN:DAYLIGHT
TZOFFSETFROM:+0100
TZOFFSETTO:+0200
TZNAME:CEST
DTSTART:20190331T010000
END:DAYLIGHT
BEGIN:STANDARD
TZOFFSETFROM:+0200
TZOFFSETTO:+0100
TZNAME:CET
DTSTART:20191027T010000
END:STANDARD
END:VTIMEZONE
BEGIN:VTIMEZONE
TZID:America/Chicago
BEGIN:DAYLIGHT
TZOFFSETFROM:-0600
TZOFFSETTO:-0500
TZNAME:CDT
DTSTART:20150308T080000
END:DAYLIGHT
BEGIN:STANDARD
TZOFFSETFROM:-0500
TZOFFSETTO:-0600
TZNAME:CST
DTSTART:20151101T070000
END:STANDARD
BEGIN:DAYLIGHT
TZOFFSETFROM:-0600
TZOFFSETTO:-0500
TZNAME:CDT
DTSTART:20160313T080000
END:DAYLIGHT
BEGIN:STANDARD
TZOFFSETFROM:-0500
TZOFFSETTO:-0600
TZNAME:CST
DTSTART:20161106T070000
END:STANDARD
BEGIN:DAYLIGHT
TZOFFSETFROM:-0600
TZOFFSETTO:-0500
TZNAME:CDT
DTSTART:20170312T080000
END:DAYLIGHT
BEGIN:STANDARD
TZOFFSETFROM:-0500
TZOFFSETTO:-0600
TZNAME:CST
DTSTART:20171105T070000
END:STANDARD
END:VTIMEZONE
BEGIN:VEVENT
DTSTART;TZID=Europe/Paris:20181204T180000
DTEND;TZID=Europe/Paris:20181204T190000
DTSTAMP:20260424T141101
CREATED:20181226T020558Z
LAST-MODIFIED:20181226T022448Z
UID:19531-1543946400-1543950000@roots.tdrgo.co
SUMMARY:Dj Garrincha Frequencias Globais
DESCRIPTION:Dj Garrincha es un o de los representates de la diáspora latina en otras latitudes como Berlin y Chicago con su sello discográfico Tropical diáspora\, prensa discos en vinilo de artistas que también tiene que ver con ese sonido de la migración y la autenticidad negra y mestiza. Activista\, coleccionista y apasionado por la música y la cultura\, Garrincha nos deja un set de puro vinilo con algunoas de las joyas de su coleeción. \nhttp://www.mixticius.net/dj-garrincha-frequencias-globais \nEl objetivo principal de mixticius.net es promover la música independiente local\, nacional e internacional a través de registros de audio que permitan divulgar la creación de artistas\, músicos\, productores y DJs que exploran y desarrollan sus trabajos alrededor de las músicas raizales\, el folclor y las músicas migratorias. Dentro de este blog tenemos una serie de podcasts por franjas donde programamos y seleccionamos músicas del mundo con influencias de la tradición africana y de mestizaje. De esta manera buscamos consolidarnos como un medio de referencia de la actividad cultural y musical de Bogotá.
URL:https://roots.tdrgo.co/event/lumpem-radio-sonorama-1712/
LOCATION:Lumpen Radio\, 960 W 31st St\, Chicago\, IL\, 60608\, United States
CATEGORIES:Radio Show
ATTACH;FMTTYPE=image/png:https://roots.tdrgo.co/wp-content/uploads/MixticiusPatuaDiascos.png
END:VEVENT
BEGIN:VEVENT
DTSTART;TZID=Europe/Paris:20170307T200000
DTEND;TZID=Europe/Paris:20170307T220000
DTSTAMP:20260424T141101
CREATED:20170307T162035Z
LAST-MODIFIED:20240613T104828Z
UID:13922-1488916800-1488924000@roots.tdrgo.co
SUMMARY:hosted by Sonorama @ Live at Lumpen Radio Chicago 105.5 FM ★ VOL.3
DESCRIPTION:LIVE AT 105.5 FM LUMPEN RADIO CHICAGO \npresented by \nCharly Garcia\, Edgar Baca & Marlowe Baca / Sonorama \nThis is a Chicago-based DJ collective that is known for energizing dance floors and sound waves with a unique blend of vintage Latin sounds. Founded in 2010 by Charly Garcia and brothers Edgar and Marlowe Baca\, Sonorama is a group of insatiable diggers and lovers of mus­ic on vinyl. \nSonorama: Take a trip through Latin America’s vinyl past circa 1950s and on. Get ready for hard hitting cumbias\, eccentric pop\, garage rock and tropical sounds with a few surprises here and there.
URL:https://roots.tdrgo.co/event/lumpem-radio-sonorama-0703/
LOCATION:Lumpen Radio\, 960 W 31st St\, Chicago\, IL\, 60608\, United States
CATEGORIES:Radio Show
ATTACH;FMTTYPE=image/jpeg:https://roots.tdrgo.co/wp-content/uploads/2017/03/sonorama-radioshow2.jpg
END:VEVENT
BEGIN:VEVENT
DTSTART;TZID=America/Chicago:20161207T200000
DTEND;TZID=America/Chicago:20161207T220000
DTSTAMP:20260424T141101
CREATED:20161129T034804Z
LAST-MODIFIED:20240613T104829Z
UID:13417-1481140800-1481148000@roots.tdrgo.co
SUMMARY:hosted by King Hippo @ Live at Lumpen Radio Chicago 105.5 FM ★ VOL.2
DESCRIPTION:Q.C. LIVE AT 105.5 FM LUMPEN RADIO CHICAGO \npresented by \nKing Hippo \nHe curates music digitally from Chicago on his website\, cuerators.com\, and through live events and on the air for the University of Chicago’s WHPK 88.5 FM. \nQ.C. is for listeners who are interested in how soul\, jazz\, r&b\, funk and hip-hop are shaping new underground music from around the world. Listeners will also enjoy interviews\, guest-mixes and in-studio performances by potent new artists.
URL:https://roots.tdrgo.co/event/lumpen-radio-qc/
LOCATION:Lumpen Radio\, 960 W 31st St\, Chicago\, IL\, 60608\, United States
CATEGORIES:Radio Show
ATTACH;FMTTYPE=image/jpeg:https://roots.tdrgo.co/wp-content/uploads/2016/11/IMG_0026.jpg
END:VEVENT
BEGIN:VEVENT
DTSTART;TZID=Europe/Paris:20161206T200000
DTEND;TZID=Europe/Paris:20161206T220000
DTSTAMP:20260424T141101
CREATED:20161202T180924Z
LAST-MODIFIED:20240613T104829Z
UID:13444-1481054400-1481061600@roots.tdrgo.co
SUMMARY:hosted by Sonorama @ Live at Lumpen Radio Chicago 105.5 FM ★ VOL.1
DESCRIPTION:LIVE AT 105.5 FM LUMPEN RADIO CHICAGO \npresented by \nCharly Garcia\, Edgar Baca & Marlowe Baca / Sonorama \nThis is a Chicago-based DJ collective that is known for energizing dance floors and sound waves with a unique blend of vintage Latin sounds. Founded in 2010 by Charly Garcia and brothers Edgar and Marlowe Baca\, Sonorama is a group of insatiable diggers and lovers of mus­ic on vinyl. \nSonorama: Take a trip through Latin America’s vinyl past circa 1950s and on. Get ready for hard hitting cumbias\, eccentric pop\, garage rock and tropical sounds with a few surprises here and there.
URL:https://roots.tdrgo.co/event/lumpem-radio-sonorama/
LOCATION:Lumpen Radio\, 960 W 31st St\, Chicago\, IL\, 60608\, United States
CATEGORIES:Radio Show
ATTACH;FMTTYPE=image/jpeg:https://roots.tdrgo.co/wp-content/uploads/2016/12/sonorama.jpg
END:VEVENT
END:VCALENDAR