BEGIN:VCALENDAR
VERSION:2.0
PRODID:-//Tropical Diaspora Records® - ECPv6.15.15//NONSGML v1.0//EN
CALSCALE:GREGORIAN
METHOD:PUBLISH
X-WR-CALNAME:Tropical Diaspora Records®
X-ORIGINAL-URL:https://roots.tdrgo.co
X-WR-CALDESC:Events for Tropical Diaspora Records®
REFRESH-INTERVAL;VALUE=DURATION:PT1H
X-Robots-Tag:noindex
X-PUBLISHED-TTL:PT1H
BEGIN:VTIMEZONE
TZID:Europe/Berlin
BEGIN:DAYLIGHT
TZOFFSETFROM:+0100
TZOFFSETTO:+0200
TZNAME:CEST
DTSTART:20210328T010000
END:DAYLIGHT
BEGIN:STANDARD
TZOFFSETFROM:+0200
TZOFFSETTO:+0100
TZNAME:CET
DTSTART:20211031T010000
END:STANDARD
BEGIN:DAYLIGHT
TZOFFSETFROM:+0100
TZOFFSETTO:+0200
TZNAME:CEST
DTSTART:20220327T010000
END:DAYLIGHT
BEGIN:STANDARD
TZOFFSETFROM:+0200
TZOFFSETTO:+0100
TZNAME:CET
DTSTART:20221030T010000
END:STANDARD
BEGIN:DAYLIGHT
TZOFFSETFROM:+0100
TZOFFSETTO:+0200
TZNAME:CEST
DTSTART:20230326T010000
END:DAYLIGHT
BEGIN:STANDARD
TZOFFSETFROM:+0200
TZOFFSETTO:+0100
TZNAME:CET
DTSTART:20231029T010000
END:STANDARD
BEGIN:DAYLIGHT
TZOFFSETFROM:+0100
TZOFFSETTO:+0200
TZNAME:CEST
DTSTART:20240331T010000
END:DAYLIGHT
BEGIN:STANDARD
TZOFFSETFROM:+0200
TZOFFSETTO:+0100
TZNAME:CET
DTSTART:20241027T010000
END:STANDARD
BEGIN:DAYLIGHT
TZOFFSETFROM:+0100
TZOFFSETTO:+0200
TZNAME:CEST
DTSTART:20250330T010000
END:DAYLIGHT
BEGIN:STANDARD
TZOFFSETFROM:+0200
TZOFFSETTO:+0100
TZNAME:CET
DTSTART:20251026T010000
END:STANDARD
BEGIN:DAYLIGHT
TZOFFSETFROM:+0100
TZOFFSETTO:+0200
TZNAME:CEST
DTSTART:20260329T010000
END:DAYLIGHT
BEGIN:STANDARD
TZOFFSETFROM:+0200
TZOFFSETTO:+0100
TZNAME:CET
DTSTART:20261025T010000
END:STANDARD
END:VTIMEZONE
BEGIN:VTIMEZONE
TZID:Europe/Paris
BEGIN:DAYLIGHT
TZOFFSETFROM:+0100
TZOFFSETTO:+0200
TZNAME:CEST
DTSTART:20190331T010000
END:DAYLIGHT
BEGIN:STANDARD
TZOFFSETFROM:+0200
TZOFFSETTO:+0100
TZNAME:CET
DTSTART:20191027T010000
END:STANDARD
BEGIN:DAYLIGHT
TZOFFSETFROM:+0100
TZOFFSETTO:+0200
TZNAME:CEST
DTSTART:20200329T010000
END:DAYLIGHT
BEGIN:STANDARD
TZOFFSETFROM:+0200
TZOFFSETTO:+0100
TZNAME:CET
DTSTART:20201025T010000
END:STANDARD
BEGIN:DAYLIGHT
TZOFFSETFROM:+0100
TZOFFSETTO:+0200
TZNAME:CEST
DTSTART:20210328T010000
END:DAYLIGHT
BEGIN:STANDARD
TZOFFSETFROM:+0200
TZOFFSETTO:+0100
TZNAME:CET
DTSTART:20211031T010000
END:STANDARD
BEGIN:DAYLIGHT
TZOFFSETFROM:+0100
TZOFFSETTO:+0200
TZNAME:CEST
DTSTART:20220327T010000
END:DAYLIGHT
BEGIN:STANDARD
TZOFFSETFROM:+0200
TZOFFSETTO:+0100
TZNAME:CET
DTSTART:20221030T010000
END:STANDARD
BEGIN:DAYLIGHT
TZOFFSETFROM:+0100
TZOFFSETTO:+0200
TZNAME:CEST
DTSTART:20230326T010000
END:DAYLIGHT
BEGIN:STANDARD
TZOFFSETFROM:+0200
TZOFFSETTO:+0100
TZNAME:CET
DTSTART:20231029T010000
END:STANDARD
END:VTIMEZONE
BEGIN:VEVENT
DTSTART;TZID=Europe/Berlin:20250228T180000
DTEND;TZID=Europe/Berlin:20250228T233000
DTSTAMP:20260419T214559
CREATED:20250227T182801Z
LAST-MODIFIED:20250704T024825Z
UID:59565-1740765600-1740785400@roots.tdrgo.co
SUMMARY:São Paulo\, In-store live at Patuá Discos • DUBLAB NA PISTA!
DESCRIPTION:DUBLAB NA PISTA!\nChega junto na dança\, no garimpo\, na sintonia \nNesta sexta (28/02)\, teremos mais uma edição do takeover da Vai Na Fé! \n_ \n🔊 VEM COM A GENTE \n🗓 28/02 (sexta)\n🕕 a partir das 18h\n📍 Rua Fidalga\, 516 – Vila Madalena\n🎟 entrada gratuita \n🎧 Nesta edição\, você confere o som 100% em vinil de: \n• 18h00 @iasminmi\n• 19h20 @luy013\n• 20h40 @dj_garrincha \n_ \n🔴 ACESSE E SINTONIZE | dublab.com.br \n🌐 transmissão ao vivo via twitch [ /dublabbrasil ] e via mixcloud [ /dublabbr ] \n_ \nParceria: @patuadiscos\nArte: @zn30.art \n#vainafe #patuadiscos #vainafé #patuádiscos #dublab #dublabbr #dublabbrasil #takeover #dj #twitch #mixcloud #lojadediscos #recordstore #vinil #vinyl #djiasmin #luysalvati \n 
URL:https://roots.tdrgo.co/event/instore-patua-discos-dub-lab-brasil-vai-na-fe-take-over/
LOCATION:Patua Discos\, Rua Fidalga\, 516\, São Paulo\, SP\, 05432-000\, Brazil
CATEGORIES:Event,Live & Party,live DJ set,MixCloud Stream,YouTube Live
ATTACH;FMTTYPE=image/png:https://roots.tdrgo.co/wp-content/uploads/2025/02/DubLab-Patua-280225.png
END:VEVENT
BEGIN:VEVENT
DTSTART;TZID=Europe/Berlin:20220909T180000
DTEND;TZID=Europe/Berlin:20220909T220000
DTSTAMP:20260419T214559
CREATED:20220906T160044Z
LAST-MODIFIED:20220909T162848Z
UID:26506-1662746400-1662760800@roots.tdrgo.co
SUMMARY:In-store live at Patuá Discos w/ Renato Gama\, Izzy Gordon and Guests w/ Dj Set by Dj Garrincha dnd Marcio Martinez
DESCRIPTION:  \nTODAY / HOJE / HOY / OGGI / HEUTE\nEscolhe o pisante\, cola na nossa tradicional in-store que acontece na nossa loja física nesta sexta (09/09)!! \nSente o groove: a Vai Na Fé! tem o prazer de receber nos tocas @marciomartinez_ \, @dj_garrincha (@tropical_diaspora_records ) !! E ainda teremos o prazer de curtir o show de @renatogama8 e @izzygordon !! \nVem na fé:\n> chegue cedo\, porque as bolachas começam a girar às 18h\n> local: Rua Fidalga\, 516\n> recomenda-se: leve o comprovante de vacinação e utilize a máscara! \nE pra não perder o groove\, a in-store será transmitida ao vivo pelo canal [ twitch.tv/djpaulao ] \nArte: @rmagrao \n/////////// \n\nPATUÁ INSTORE Fr.09.09.22 \nIn-store live at Patuá Discos @patuadiscos from 6 pm till 10 pm\nw/ Renato Gama @renatogama8 and Izzy Gordon @izzygordon and band Ronaldo Gama @ronaldogama_bass and Leo Carvalho @lleoccarvalho\n•\nDJ set strictly vinyl with: DJ GArRinchA @dj_garrincha and Dj Márcio Martinez @marciomartinez_\n•\nTropical Diaspora® Records [www.tdrgo.co] @tropical_diaspora_records Limited Releases for sale! ✊🏾 Tropical Diaspora® Records is a Record Label and an Event as Tropical Diaspora® established in Berlin with one mission: the spread of the great heritage of the African musical Diasporas from mainland Africa into the Americas and World Wide. With this aim in mind we are committed to produce and press vinyl records to disseminate the Diaspora sound.
URL:https://roots.tdrgo.co/event/instore-patua-discos-vai-na-fe-renato-gama-izzy-godrdon-dj-garrincha/
LOCATION:Patua Discos\, Rua Fidalga\, 516\, São Paulo\, SP\, 05432-000\, Brazil
CATEGORIES:Event,Live & Party,live DJ set,MixCloud Stream,YouTube Live
ATTACH;FMTTYPE=image/jpeg:https://roots.tdrgo.co/wp-content/uploads/2022/09/Patua-Discos-Vai-Na-Fe-090922.jpg
END:VEVENT
BEGIN:VEVENT
DTSTART;VALUE=DATE:20200317
DTEND;VALUE=DATE:20230101
DTSTAMP:20260419T214559
CREATED:20190905T002410Z
LAST-MODIFIED:20220909T162830Z
UID:21329-1584403200-1672531199@roots.tdrgo.co
SUMMARY:Tropical Diaspora® Songs of Confinement
DESCRIPTION:Following the recommendations of the W H O and state authorities Tropical Diaspora® Records has canceled all planed events\, DJs shows\, recordings\, and any other activities related to our productions. In these difficult times DJ Garrincha and DJ Dr.Sócrates send their love and support you through our MixCloud stream\, for example the latest Mix by Dj Dr.Sócrates\, \nSongs of Confinement\nFrom the vaults of DJ Dr.Sócrates… I bring to you songs of confinement\, confinement of people because of their ideas\, because of their defense of the environment and social justice\, because of the color of their skin or the gender they choose\, confinement because of the place in which they were born\, the culture they practice or the rituals they perform… and last but not least\, confinement because of their social condition. These are angry songs without fear. Every track creates an intense and emotional dialogue with the song that precedes it and the one that follows. One take\, only original vinyl records. You have to listen. \nCheck it out for more here\nmixcloud.com/tdrgo/\n\n\n\n \nPhoto by Dj GArRinchA: Tropical Diaspora® Party vol.21 Featuring Pax Nicholas & The Ridimtaksi
URL:https://roots.tdrgo.co/event/mixcloud-stream-by-tropical-diaspora-djs/
LOCATION:Tropical Diaspora® Mixcloud Stream
CATEGORIES:MixCloud Stream
ATTACH;FMTTYPE=image/png:https://roots.tdrgo.co/wp-content/uploads/feat_event_YAAM-200813.png
ORGANIZER;CN="TROPICAL DIASPORA%C2%AE Records":MAILTO:info@tdrgo.com
END:VEVENT
END:VCALENDAR