BEGIN:VCALENDAR
VERSION:2.0
PRODID:-//Tropical Diaspora Records® - ECPv6.15.15//NONSGML v1.0//EN
CALSCALE:GREGORIAN
METHOD:PUBLISH
X-ORIGINAL-URL:https://roots.tdrgo.co
X-WR-CALDESC:Events for Tropical Diaspora Records®
REFRESH-INTERVAL;VALUE=DURATION:PT1H
X-Robots-Tag:noindex
X-PUBLISHED-TTL:PT1H
BEGIN:VTIMEZONE
TZID:Europe/Berlin
BEGIN:DAYLIGHT
TZOFFSETFROM:+0100
TZOFFSETTO:+0200
TZNAME:CEST
DTSTART:20120325T010000
END:DAYLIGHT
BEGIN:STANDARD
TZOFFSETFROM:+0200
TZOFFSETTO:+0100
TZNAME:CET
DTSTART:20121028T010000
END:STANDARD
BEGIN:DAYLIGHT
TZOFFSETFROM:+0100
TZOFFSETTO:+0200
TZNAME:CEST
DTSTART:20130331T010000
END:DAYLIGHT
BEGIN:STANDARD
TZOFFSETFROM:+0200
TZOFFSETTO:+0100
TZNAME:CET
DTSTART:20131027T010000
END:STANDARD
BEGIN:DAYLIGHT
TZOFFSETFROM:+0100
TZOFFSETTO:+0200
TZNAME:CEST
DTSTART:20140330T010000
END:DAYLIGHT
BEGIN:STANDARD
TZOFFSETFROM:+0200
TZOFFSETTO:+0100
TZNAME:CET
DTSTART:20141026T010000
END:STANDARD
BEGIN:DAYLIGHT
TZOFFSETFROM:+0100
TZOFFSETTO:+0200
TZNAME:CEST
DTSTART:20150329T010000
END:DAYLIGHT
BEGIN:STANDARD
TZOFFSETFROM:+0200
TZOFFSETTO:+0100
TZNAME:CET
DTSTART:20151025T010000
END:STANDARD
BEGIN:DAYLIGHT
TZOFFSETFROM:+0100
TZOFFSETTO:+0200
TZNAME:CEST
DTSTART:20160327T010000
END:DAYLIGHT
BEGIN:STANDARD
TZOFFSETFROM:+0200
TZOFFSETTO:+0100
TZNAME:CET
DTSTART:20161030T010000
END:STANDARD
BEGIN:DAYLIGHT
TZOFFSETFROM:+0100
TZOFFSETTO:+0200
TZNAME:CEST
DTSTART:20170326T010000
END:DAYLIGHT
BEGIN:STANDARD
TZOFFSETFROM:+0200
TZOFFSETTO:+0100
TZNAME:CET
DTSTART:20171029T010000
END:STANDARD
BEGIN:DAYLIGHT
TZOFFSETFROM:+0100
TZOFFSETTO:+0200
TZNAME:CEST
DTSTART:20180325T010000
END:DAYLIGHT
BEGIN:STANDARD
TZOFFSETFROM:+0200
TZOFFSETTO:+0100
TZNAME:CET
DTSTART:20181028T010000
END:STANDARD
BEGIN:DAYLIGHT
TZOFFSETFROM:+0100
TZOFFSETTO:+0200
TZNAME:CEST
DTSTART:20190331T010000
END:DAYLIGHT
BEGIN:STANDARD
TZOFFSETFROM:+0200
TZOFFSETTO:+0100
TZNAME:CET
DTSTART:20191027T010000
END:STANDARD
BEGIN:DAYLIGHT
TZOFFSETFROM:+0100
TZOFFSETTO:+0200
TZNAME:CEST
DTSTART:20200329T010000
END:DAYLIGHT
BEGIN:STANDARD
TZOFFSETFROM:+0200
TZOFFSETTO:+0100
TZNAME:CET
DTSTART:20201025T010000
END:STANDARD
END:VTIMEZONE
BEGIN:VEVENT
DTSTART;TZID=Europe/Berlin:20190705T180000
DTEND;TZID=Europe/Berlin:20190727T230000
DTSTAMP:20260420T055803
CREATED:20190614T213536Z
LAST-MODIFIED:20190614T213615Z
UID:20826-1562349600-1564268400@roots.tdrgo.co
SUMMARY:Tropical Diaspora® Records at HKW Wassermusik: Black Atlantic Revisited
DESCRIPTION:Wassermusik: Black Atlantic Revisited • 2019\, Jul 05\, Fri — 2019\, Jul 27\, Sat \n\n\n \n\n\nTropical Diaspora® Records will be part of the Wassermusik Festival this year with focus on the Black Atlantic theme\, indeed and we at Tropical Diaspora® try to create a narrative\, musical and otherwise\, about the people that crossed the Atlantic from Africa to the “Americas” and gave rise to different cultural expressions that reflect both the horror and hope of that experience. \n\n\n \n\n\n———————————————————- \n\n\n \n\n\nFestival Description by HKW.\n\n\n \n\n\n“In 1993 Paul Gilroy’s book The Black Atlantic: Modernity and Double Consciousness was published. In it\, he examines how the history of the Black Atlantic diaspora defied art and knowledge to find new forms. Music is of particular importance in this context. In 2004 the Black Atlantic project grappling with Gilroy’s theories took place at HKW. Fifteen years later it’s time to take them up again. The focus of Wassermusik in 2019 – entitled Black Atlantic Revisited – is on the South Atlantic and its musical cultures. With concerts by Milton Nascimento\, Angelique Kidjo\, Gilberto Gil and many others\, a film program and the Wassermarkt.\n\n\n \n\n\nCurated by Detlef Diederichsen\n\n\n \n\n\nThe conference Echoes of the South Atlantic (July 10 and 11) in cooperation with the Goethe-Institut looks at the present-day situation of Atlantic relations between Africa\, the Americas and Europe. Paul Gilroy is among the many contributors.”\n\n\n \n\n\n———————————————————-\n\n\n \n\n\nPROGRAM\n\n\n \n\n\nFriday\, Jul 5\n\n\n7 pm\n\n\nMilton Nascimento presents Clube da Esquina\, Luedji Luna\n\n\n \n\n\nConcerts\, film\n\n\nSaturday\, Jul 6\n\n\n7 pm\n\n\nRanky Tanky\, Nelida Karr\n\n\n \n\n\nConcerts\, film\n\n\nFriday\, Jul 12\n\n\n7 pm\n\n\nMaravillas de Mali\, Les Filles de Illighadad\n\n\n \n\n\nConcerts\, film\n\n\nSaturday\, Jul 13\n\n\n7 pm\n\n\nLes Amazones d’Afrique\, Virgínia Rodrigues\n\n\n \n\n\nConcerts\, film\n\n\nSunday\, Jul 14\n\n\n7 pm\n\n\nGilberto Gil\, Miroca Paris\n\n\n \n\n\nConcerts\, film\n\n\nFriday\, Jul 19\n\n\n7 pm\n\n\nBenin International Musical\, B.C.U.C. (Bantu Continua Uhuru Consciousness)\n\n\n \n\n\nConcerts\, film\n\n\nSaturday\, Jul 20\n\n\n7 pm\n\n\nLouis Towers\, Maria del Rosario\n\n\n \n\n\nConcerts\, film\n\n\nSunday\, Jul 21\n\n\n7 pm\n\n\nAngélique Kidjo\, Chocolate Remix\n\n\n \n\n\nConcerts\, film\n\n\nFriday\, Jul 26\n\n\n7 pm\n\n\nMario Lucio & Simentera\, Lechuga Zafiro\n\n\n \n\n\nConcerts\, film\n\n\nSaturday\, Jul 27\n\n\n7 pm\n\n\nThe Congos & Pura Vida\, Hollie Cook
URL:https://roots.tdrgo.co/event/hkw-wassermusik-black-atlantic-revisited/
LOCATION:Haus der Kultruen der Welt\, John-Foster-Dulles-Allee 10\, Berlin\, Berlin\, 10557\, Germany
CATEGORIES:Event
ATTACH;FMTTYPE=image/png:https://roots.tdrgo.co/wp-content/uploads/FLYER-A6-TDR-HdK-0719-107x150-CMYK-300x-Front-v2.png
END:VEVENT
BEGIN:VEVENT
DTSTART;TZID=Europe/Berlin:20190629T140000
DTEND;TZID=Europe/Berlin:20190629T230000
DTSTAMP:20260420T055803
CREATED:20190819T142112Z
LAST-MODIFIED:20190819T142315Z
UID:21139-1561816800-1561849200@roots.tdrgo.co
SUMMARY:Kleines Garten Festival
DESCRIPTION:Sudestada Sounds\, El Vino del Capitán und Nampelkā laden Euch herzlich zu ihrem Familienfest ein!!!. \nFreunde & Nachbarn\, Mama & Papa\, Opa & Oma\, Bruder & Schwester\, Groß & Klein\, Jung & Alt und wen es sonst alles gibt. \nAb 15 Uhr im idyllischen Garten von Theresa erwarten Euch: \n🐤Hüpfburg\n🧚‍♀️Kinderschminken\n🍦Eis\n🐸Planschbecken\n🐝Empanadas\n🐞Würste\n🥦 Veganes Menü\n🍰Kaffee & Kuchen☕️\n🍷Argentinischer Wein\n💃Volkstänze \n….und ein vielfältiges Live-Musik Programm mit: \nLa Fanfarria del Capitán\nRiosentí Música\nAcuario Cósmico\nKonstanThyme\nTropical Diaspora Records \nDavor & dazwischen:\nDie coolste Unterhaltungsmusik von Mosh Project und Tropical Diaspora Records.. \nhttps://zingerwiesen.de/
URL:https://roots.tdrgo.co/event/gartenlokal-am-anger-290619/
LOCATION:Gartenlokal „Am Anger“\, Am Iderfenngraben 45\, Berlin\, 13156
CATEGORIES:Event
ATTACH;FMTTYPE=image/jpeg:https://roots.tdrgo.co/wp-content/uploads/2019/08/kleingartenfestival1.jpg
END:VEVENT
BEGIN:VEVENT
DTSTART;TZID=Europe/Berlin:20190511T120000
DTEND;TZID=Europe/Berlin:20190511T200000
DTSTAMP:20260420T055803
CREATED:20190428T210845Z
LAST-MODIFIED:20190501T114438Z
UID:20594-1557576000-1557604800@roots.tdrgo.co
SUMMARY:Independent Label Market: Berlin x Sneakersnstuff
DESCRIPTION:We are coming back to Berlin! \nIndependent Label Market and Sneakersnstuff team-up to bring fresh labels to the space below the Berlin Mitte located boutique. With increasing numbers of music streams\, the Independent Label Market in collaboration with the Swedish sneaker retailer returns the traditional Vinyl market stall feeling\, where goods are exchanged away from digital strategies to keep the community alive. Come by\, hang out with us and start digging records \nOpen for only one day\, the 11th of May\, this pop-up shop is a place for long conversations\, good music and discovering new gems. Visitors will have the chance to meet the creators behind record labels\, find rarities\, or just keep it chill and enjoy a day off-line and on-record. \nLABELS\nBanlieue Records – BRAINFEEDER – Cómeme – Correspondant – Dame-Music – Dischi Autunno – Dystopian – Foul-Up – InFiné – Karaoke Kalk – Mannequin (Label + Mailorder) – Mechatronica – Morr Music – Ninja Tune – Notes On A Journey – Second Editions – Sonar Kollektiv – Tape Dub – Tropical Diaspora Records
URL:https://roots.tdrgo.co/event/independent-label-market-berlin-2019/
LOCATION:Sneakersnstuff (Berlin\, Germany)\, Schönhauser Allee 6/7\, Berlin\, Berlin\, 10119\, Germany
CATEGORIES:Event
ATTACH;FMTTYPE=image/jpeg:https://roots.tdrgo.co/wp-content/uploads/Poster.jpg
END:VEVENT
BEGIN:VEVENT
DTSTART;TZID=Europe/Berlin:20130830T220000
DTEND;TZID=Europe/Berlin:20130830T220000
DTSTAMP:20260420T055803
CREATED:20240613T111233Z
LAST-MODIFIED:20240617T155846Z
UID:30227-1377900000-1377900000@roots.tdrgo.co
SUMMARY:Tropical Diaspora® Party vol.21 Featuring Pax Nicholas & The Ridimtaksi • After Party Strictly Vinyl with Djs GArRinchA & Dr.Sócrates
DESCRIPTION:Tropical Diaspora proudly presents\n\n\n\n\n\n\nPAX NICHOLAS & THE RIDIMTAKSI – Afrobeat\, Afro-Soul und Afro-FunK \n(Ghana\, South Africa\, Togo\, Benin\, Cameroun\, Congo\, Sierra Leone\, Cuba\, Berlin) \nPAX NICHOLAS\, a veteran of Fela Kuti’s Africa 70\, and his RIDIMTAKSI provide hard-hittin´ Afrobeat with a heavy dose of Soul! Get on board!!! \nPAX NICHOLAS & THE RIDIMTAKSI is a band of 12 skilled musicians from Africa & Berlin who share the love for heavy and funky music. Lead by experienced showman\, singer and percussionist Pax Nicholas from Ghana\, who was a member of FELA KUTI´s legendary band AFRICA 70 from 1971 to 1978\, they are out there to make you happy with hard-hittin’ AFROBEAT and a heavy dose of SOUL. In 2010\, they left an impressed audience when they opened the show for Sharon Jones & The Dap-Kings at Huxley´s\, Berlin. Be it original Fela Kuti songs or Pax´ own Soul\, Funk and Highlife influenced compositions\, be it classic or modern: when the Ridimtaksi is on the move you better be ready\, these guys will make you move your feet and shake your hips!
URL:https://roots.tdrgo.co/event/tdrparty-pax-nicholas-and-the-ridimtaksi/
LOCATION:YAAM\, Stralauer Platz\, 35\, BErlin\, Berlin\, 10243\, Germany
CATEGORIES:Event
ATTACH;FMTTYPE=image/png:https://roots.tdrgo.co/wp-content/uploads/POSTER-A1-TRODIA-300813-1000x-V6.png
ORGANIZER;CN="Tropical Diaspora%C2%AE Party":MAILTO:info@tdrgo.com
END:VEVENT
END:VCALENDAR