BEGIN:VCALENDAR
VERSION:2.0
PRODID:-//Tropical Diaspora Records® - ECPv6.15.15//NONSGML v1.0//EN
CALSCALE:GREGORIAN
METHOD:PUBLISH
X-WR-CALNAME:Tropical Diaspora Records®
X-ORIGINAL-URL:https://roots.tdrgo.co
X-WR-CALDESC:Events for Tropical Diaspora Records®
REFRESH-INTERVAL;VALUE=DURATION:PT1H
X-Robots-Tag:noindex
X-PUBLISHED-TTL:PT1H
BEGIN:VTIMEZONE
TZID:America/Chicago
BEGIN:DAYLIGHT
TZOFFSETFROM:-0600
TZOFFSETTO:-0500
TZNAME:CDT
DTSTART:20160313T080000
END:DAYLIGHT
BEGIN:STANDARD
TZOFFSETFROM:-0500
TZOFFSETTO:-0600
TZNAME:CST
DTSTART:20161106T070000
END:STANDARD
BEGIN:DAYLIGHT
TZOFFSETFROM:-0600
TZOFFSETTO:-0500
TZNAME:CDT
DTSTART:20170312T080000
END:DAYLIGHT
BEGIN:STANDARD
TZOFFSETFROM:-0500
TZOFFSETTO:-0600
TZNAME:CST
DTSTART:20171105T070000
END:STANDARD
BEGIN:DAYLIGHT
TZOFFSETFROM:-0600
TZOFFSETTO:-0500
TZNAME:CDT
DTSTART:20180311T080000
END:DAYLIGHT
BEGIN:STANDARD
TZOFFSETFROM:-0500
TZOFFSETTO:-0600
TZNAME:CST
DTSTART:20181104T070000
END:STANDARD
END:VTIMEZONE
BEGIN:VTIMEZONE
TZID:Europe/Helsinki
BEGIN:DAYLIGHT
TZOFFSETFROM:+0200
TZOFFSETTO:+0300
TZNAME:EEST
DTSTART:20160327T010000
END:DAYLIGHT
BEGIN:STANDARD
TZOFFSETFROM:+0300
TZOFFSETTO:+0200
TZNAME:EET
DTSTART:20161030T010000
END:STANDARD
BEGIN:DAYLIGHT
TZOFFSETFROM:+0200
TZOFFSETTO:+0300
TZNAME:EEST
DTSTART:20170326T010000
END:DAYLIGHT
BEGIN:STANDARD
TZOFFSETFROM:+0300
TZOFFSETTO:+0200
TZNAME:EET
DTSTART:20171029T010000
END:STANDARD
BEGIN:DAYLIGHT
TZOFFSETFROM:+0200
TZOFFSETTO:+0300
TZNAME:EEST
DTSTART:20180325T010000
END:DAYLIGHT
BEGIN:STANDARD
TZOFFSETFROM:+0300
TZOFFSETTO:+0200
TZNAME:EET
DTSTART:20181028T010000
END:STANDARD
END:VTIMEZONE
BEGIN:VTIMEZONE
TZID:America/Chicago
BEGIN:DAYLIGHT
TZOFFSETFROM:-0600
TZOFFSETTO:-0500
TZNAME:CDT
DTSTART:20150308T080000
END:DAYLIGHT
BEGIN:STANDARD
TZOFFSETFROM:-0500
TZOFFSETTO:-0600
TZNAME:CST
DTSTART:20151101T070000
END:STANDARD
BEGIN:DAYLIGHT
TZOFFSETFROM:-0600
TZOFFSETTO:-0500
TZNAME:CDT
DTSTART:20160313T080000
END:DAYLIGHT
BEGIN:STANDARD
TZOFFSETFROM:-0500
TZOFFSETTO:-0600
TZNAME:CST
DTSTART:20161106T070000
END:STANDARD
BEGIN:DAYLIGHT
TZOFFSETFROM:-0600
TZOFFSETTO:-0500
TZNAME:CDT
DTSTART:20170312T080000
END:DAYLIGHT
BEGIN:STANDARD
TZOFFSETFROM:-0500
TZOFFSETTO:-0600
TZNAME:CST
DTSTART:20171105T070000
END:STANDARD
END:VTIMEZONE
BEGIN:VEVENT
DTSTART;TZID=America/Chicago:20170617T190000
DTEND;TZID=America/Chicago:20170617T235900
DTSTAMP:20260420T051206
CREATED:20170617T172855Z
LAST-MODIFIED:20240613T104900Z
UID:14571-1497726000-1497743940@roots.tdrgo.co
SUMMARY:CH Distillery Chicago ★ TD® Revolve VOL.8
DESCRIPTION:The practice is straightforward! We provide best strictly vinyl Afro Diaspora New World Sound and CH Distillery provide the best cocktails in Chicago West Loop made with own liqueurs production.\n\nDj GArRinchA (Brazil / Berlin) \nGuests\nDjs Charly & Señor Eddy (Sonorama Chicago)\nDj Clarck Quente (Chicago)
URL:https://roots.tdrgo.co/event/chicago-revolve-vol2/
LOCATION:CH Distillery\, 564 W Randolph St\, Chicago\, IL\, 60661\, United States
CATEGORIES:live DJ set
ATTACH;FMTTYPE=image/png:https://roots.tdrgo.co/wp-content/uploads/2017/06/FLYER-CHDistillery-170617-RGB-300x-v2.png
ORGANIZER;CN="TROPICAL DIASPORA%C2%AE Records":MAILTO:info@tdrgo.com
END:VEVENT
BEGIN:VEVENT
DTSTART;TZID=Europe/Helsinki:20170525T200000
DTEND;TZID=Europe/Helsinki:20170525T233000
DTSTAMP:20260420T051206
CREATED:20170617T172226Z
LAST-MODIFIED:20240613T104900Z
UID:14566-1495742400-1495755000@roots.tdrgo.co
SUMMARY:CH Distillery Chicago ★ TD® Revolve VOL.7
DESCRIPTION:For the first time inna Xicago City Dj GArRinchA´s Tropical Diaspora goes for a strictly vinyl spinning with the masters of Sonorama Discos. The mission is simple! we provide best Brazil & Latin vintage records and CH Distillery provide the best cocktails in Chicago West Loop made with own liqueurs production.\n\n\n \n\n\nDj GArRinchA (Brazil / Berlin)\n\n\nDj Charlie (Mexico / Chicago)
URL:https://roots.tdrgo.co/event/chicago-revolve-vol1/
LOCATION:CH Distillery\, 564 W Randolph St\, Chicago\, IL\, 60661\, United States
CATEGORIES:live DJ set
END:VEVENT
BEGIN:VEVENT
DTSTART;TZID=America/Chicago:20161203T180000
DTEND;TZID=America/Chicago:20161203T210000
DTSTAMP:20260420T051206
CREATED:20161119T000239Z
LAST-MODIFIED:20240613T104829Z
UID:13296-1480788000-1480798800@roots.tdrgo.co
SUMMARY:606 Records Chicago Presents: Tropical Diaspora® Records
DESCRIPTION:In-store live DJ set with: DJ GArRinchA (Sao Paulo / Berlin). Strictly vinyl: rare Afro-Brazilian\, Latin and American Grooves with Tropical Diaspora Records Limited Releases for sale! \nTropical Diaspora® Records is a Record Label and an Event as Tropical Diaspora established in Berlin with one mission: the spread of the great heritage of the African musical Diasporas from mainland Africa into the Americas and World Wide. With this aim in mind we are committed to produce and press vinyl records to disseminate the Diaspora sound.
URL:https://roots.tdrgo.co/event/in-store-606-records/
LOCATION:606 Record Store\, 1808 S Allport St\, Chicago\, 60608\, United States
CATEGORIES:live DJ set
ATTACH;FMTTYPE=image/png:https://roots.tdrgo.co/wp-content/uploads/2016/07/TDR-RecordStores_Logo_400x400_606Chicago_v1.png
END:VEVENT
END:VCALENDAR