BEGIN:VCALENDAR
VERSION:2.0
PRODID:-//Tropical Diaspora Records® - ECPv6.15.15//NONSGML v1.0//EN
CALSCALE:GREGORIAN
METHOD:PUBLISH
X-WR-CALNAME:Tropical Diaspora Records®
X-ORIGINAL-URL:https://roots.tdrgo.co
X-WR-CALDESC:Events for Tropical Diaspora Records®
REFRESH-INTERVAL;VALUE=DURATION:PT1H
X-Robots-Tag:noindex
X-PUBLISHED-TTL:PT1H
BEGIN:VTIMEZONE
TZID:Europe/Berlin
BEGIN:DAYLIGHT
TZOFFSETFROM:+0100
TZOFFSETTO:+0200
TZNAME:CEST
DTSTART:20190331T010000
END:DAYLIGHT
BEGIN:STANDARD
TZOFFSETFROM:+0200
TZOFFSETTO:+0100
TZNAME:CET
DTSTART:20191027T010000
END:STANDARD
BEGIN:DAYLIGHT
TZOFFSETFROM:+0100
TZOFFSETTO:+0200
TZNAME:CEST
DTSTART:20200329T010000
END:DAYLIGHT
BEGIN:STANDARD
TZOFFSETFROM:+0200
TZOFFSETTO:+0100
TZNAME:CET
DTSTART:20201025T010000
END:STANDARD
BEGIN:DAYLIGHT
TZOFFSETFROM:+0100
TZOFFSETTO:+0200
TZNAME:CEST
DTSTART:20210328T010000
END:DAYLIGHT
BEGIN:STANDARD
TZOFFSETFROM:+0200
TZOFFSETTO:+0100
TZNAME:CET
DTSTART:20211031T010000
END:STANDARD
END:VTIMEZONE
BEGIN:VTIMEZONE
TZID:Europe/Paris
BEGIN:DAYLIGHT
TZOFFSETFROM:+0100
TZOFFSETTO:+0200
TZNAME:CEST
DTSTART:20180325T010000
END:DAYLIGHT
BEGIN:STANDARD
TZOFFSETFROM:+0200
TZOFFSETTO:+0100
TZNAME:CET
DTSTART:20181028T010000
END:STANDARD
BEGIN:DAYLIGHT
TZOFFSETFROM:+0100
TZOFFSETTO:+0200
TZNAME:CEST
DTSTART:20190331T010000
END:DAYLIGHT
BEGIN:STANDARD
TZOFFSETFROM:+0200
TZOFFSETTO:+0100
TZNAME:CET
DTSTART:20191027T010000
END:STANDARD
BEGIN:DAYLIGHT
TZOFFSETFROM:+0100
TZOFFSETTO:+0200
TZNAME:CEST
DTSTART:20200329T010000
END:DAYLIGHT
BEGIN:STANDARD
TZOFFSETFROM:+0200
TZOFFSETTO:+0100
TZNAME:CET
DTSTART:20201025T010000
END:STANDARD
END:VTIMEZONE
BEGIN:VTIMEZONE
TZID:Europe/Helsinki
BEGIN:DAYLIGHT
TZOFFSETFROM:+0200
TZOFFSETTO:+0300
TZNAME:EEST
DTSTART:20160327T010000
END:DAYLIGHT
BEGIN:STANDARD
TZOFFSETFROM:+0300
TZOFFSETTO:+0200
TZNAME:EET
DTSTART:20161030T010000
END:STANDARD
BEGIN:DAYLIGHT
TZOFFSETFROM:+0200
TZOFFSETTO:+0300
TZNAME:EEST
DTSTART:20170326T010000
END:DAYLIGHT
BEGIN:STANDARD
TZOFFSETFROM:+0300
TZOFFSETTO:+0200
TZNAME:EET
DTSTART:20171029T010000
END:STANDARD
BEGIN:DAYLIGHT
TZOFFSETFROM:+0200
TZOFFSETTO:+0300
TZNAME:EEST
DTSTART:20180325T010000
END:DAYLIGHT
BEGIN:STANDARD
TZOFFSETFROM:+0300
TZOFFSETTO:+0200
TZNAME:EET
DTSTART:20181028T010000
END:STANDARD
BEGIN:DAYLIGHT
TZOFFSETFROM:+0200
TZOFFSETTO:+0300
TZNAME:EEST
DTSTART:20190331T010000
END:DAYLIGHT
BEGIN:STANDARD
TZOFFSETFROM:+0300
TZOFFSETTO:+0200
TZNAME:EET
DTSTART:20191027T010000
END:STANDARD
END:VTIMEZONE
BEGIN:VTIMEZONE
TZID:America/Chicago
BEGIN:DAYLIGHT
TZOFFSETFROM:-0600
TZOFFSETTO:-0500
TZNAME:CDT
DTSTART:20150308T080000
END:DAYLIGHT
BEGIN:STANDARD
TZOFFSETFROM:-0500
TZOFFSETTO:-0600
TZNAME:CST
DTSTART:20151101T070000
END:STANDARD
BEGIN:DAYLIGHT
TZOFFSETFROM:-0600
TZOFFSETTO:-0500
TZNAME:CDT
DTSTART:20160313T080000
END:DAYLIGHT
BEGIN:STANDARD
TZOFFSETFROM:-0500
TZOFFSETTO:-0600
TZNAME:CST
DTSTART:20161106T070000
END:STANDARD
BEGIN:DAYLIGHT
TZOFFSETFROM:-0600
TZOFFSETTO:-0500
TZNAME:CDT
DTSTART:20170312T080000
END:DAYLIGHT
BEGIN:STANDARD
TZOFFSETFROM:-0500
TZOFFSETTO:-0600
TZNAME:CST
DTSTART:20171105T070000
END:STANDARD
BEGIN:DAYLIGHT
TZOFFSETFROM:-0600
TZOFFSETTO:-0500
TZNAME:CDT
DTSTART:20180311T080000
END:DAYLIGHT
BEGIN:STANDARD
TZOFFSETFROM:-0500
TZOFFSETTO:-0600
TZNAME:CST
DTSTART:20181104T070000
END:STANDARD
END:VTIMEZONE
BEGIN:VTIMEZONE
TZID:America/Chicago
BEGIN:DAYLIGHT
TZOFFSETFROM:-0600
TZOFFSETTO:-0500
TZNAME:CDT
DTSTART:20160313T080000
END:DAYLIGHT
BEGIN:STANDARD
TZOFFSETFROM:-0500
TZOFFSETTO:-0600
TZNAME:CST
DTSTART:20161106T070000
END:STANDARD
BEGIN:DAYLIGHT
TZOFFSETFROM:-0600
TZOFFSETTO:-0500
TZNAME:CDT
DTSTART:20170312T080000
END:DAYLIGHT
BEGIN:STANDARD
TZOFFSETFROM:-0500
TZOFFSETTO:-0600
TZNAME:CST
DTSTART:20171105T070000
END:STANDARD
BEGIN:DAYLIGHT
TZOFFSETFROM:-0600
TZOFFSETTO:-0500
TZNAME:CDT
DTSTART:20180311T080000
END:DAYLIGHT
BEGIN:STANDARD
TZOFFSETFROM:-0500
TZOFFSETTO:-0600
TZNAME:CST
DTSTART:20181104T070000
END:STANDARD
END:VTIMEZONE
BEGIN:VEVENT
DTSTART;TZID=Europe/Berlin:20200104T220000
DTEND;TZID=Europe/Berlin:20200105T050000
DTSTAMP:20260420T033221
CREATED:20200109T002538Z
LAST-MODIFIED:20200109T002601Z
UID:21899-1578175200-1578200400@roots.tdrgo.co
SUMMARY:Beatz on the Flow by Dj Tikogo
DESCRIPTION:
URL:https://roots.tdrgo.co/event/beatz-on-the-flow-by-dj-tikogo/
LOCATION:Panke Culture\, Gerichtstraße 23/Hof V\, Berlin\, 13347\, Germany
CATEGORIES:live DJ set
ATTACH;FMTTYPE=image/png:https://roots.tdrgo.co/wp-content/uploads/FLYER-A6-TDR-090619-107x150-CMYK-300x-Back-v2.png
END:VEVENT
BEGIN:VEVENT
DTSTART;TZID=Europe/Paris:20191129T210000
DTEND;TZID=Europe/Paris:20191130T050000
DTSTAMP:20260420T033221
CREATED:20190905T002653Z
LAST-MODIFIED:20190905T003119Z
UID:21335-1575061200-1575090000@roots.tdrgo.co
SUMMARY:Tropical Diaspora Dance Residency Nov.
DESCRIPTION:Tropical Diaspora Records bring the Afro Diaspora Sound in the New World to Kugelbahn Wedding Berlin. \nOnce again we’ll be hosting the hottest in tropical Latin sounds at the finest kugelbahn bar in Berlin wedding with our strictly vinyl residency brings only the best vinyl heat to make you move all night long. \n★ Tropical Diaspora Records is an independent Berlin based Record Label specialized in Vinyl Records for the Afro Diaspora Culture in the new world.
URL:https://roots.tdrgo.co/event/kugelbahn-291119/
LOCATION:Kugelbahn (Kegelstube)\, Grüntaler Str. 51 • -\, Berlin\, Berlin\, 13359\, Germany
CATEGORIES:live DJ set
ATTACH;FMTTYPE=image/png:https://roots.tdrgo.co/wp-content/uploads/2019/09/FLYER-A6-TRODIA-291119-107x150-CMYK-300x-Front-V1.png
END:VEVENT
BEGIN:VEVENT
DTSTART;TZID=Europe/Paris:20191025T210000
DTEND;TZID=Europe/Paris:20191026T050000
DTSTAMP:20260420T033221
CREATED:20190905T002553Z
LAST-MODIFIED:20190905T003114Z
UID:21332-1572037200-1572066000@roots.tdrgo.co
SUMMARY:Tropical Diaspora Dance Residency  Oct.
DESCRIPTION:Tropical Diaspora Records bring the Afro Diaspora Sound in the New World to Kugelbahn Wedding Berlin. \nOnce again we’ll be hosting the hottest in tropical Latin sounds at the finest kugelbahn bar in Berlin wedding with our strictly vinyl residency brings only the best vinyl heat to make you move all night long. \n★ Tropical Diaspora Records is an independent Berlin based Record Label specialized in Vinyl Records for the Afro Diaspora Culture in the new world.
URL:https://roots.tdrgo.co/event/kugelbahn-251019/
LOCATION:Kugelbahn (Kegelstube)\, Grüntaler Str. 51 • -\, Berlin\, Berlin\, 13359\, Germany
CATEGORIES:live DJ set
ATTACH;FMTTYPE=image/png:https://roots.tdrgo.co/wp-content/uploads/2019/09/FLYER-A6-TRODIA-251019-107x150-CMYK-300x-Front-V1.png
END:VEVENT
BEGIN:VEVENT
DTSTART;TZID=Europe/Paris:20190927T210000
DTEND;TZID=Europe/Paris:20190928T050000
DTSTAMP:20260420T033221
CREATED:20190905T002006Z
LAST-MODIFIED:20190905T003108Z
UID:21325-1569618000-1569646800@roots.tdrgo.co
SUMMARY:Tropical Diaspora Dance Residency Sep.
DESCRIPTION:Tropical Diaspora Records bring the Afro Diaspora Sound in the New World to Kugelbahn Wedding Berlin. \nOnce again we’ll be hosting the hottest in tropical Latin sounds at the finest kugelbahn bar in Berlin wedding with our strictly vinyl residency brings only the best vinyl heat to make you move all night long. \n★ Tropical Diaspora Records is an independent Berlin based Record Label specialized in Vinyl Records for the Afro Diaspora Culture in the new world.
URL:https://roots.tdrgo.co/event/kugelbahn-270919/
LOCATION:Kugelbahn (Kegelstube)\, Grüntaler Str. 51 • -\, Berlin\, Berlin\, 13359\, Germany
CATEGORIES:live DJ set
ATTACH;FMTTYPE=image/png:https://roots.tdrgo.co/wp-content/uploads/2019/09/FLYER-A6-TRODIA-270919-107x150-CMYK-300x-Front-V1.png
END:VEVENT
BEGIN:VEVENT
DTSTART;TZID=Europe/Helsinki:20180316T200000
DTEND;TZID=Europe/Helsinki:20180317T010000
DTSTAMP:20260420T033221
CREATED:20180315T171818Z
LAST-MODIFIED:20180315T171932Z
UID:16438-1521230400-1521248400@roots.tdrgo.co
SUMMARY:CH Distillery Chicago ★
DESCRIPTION:The mission is simple! we provide best Brazil & Latin vintage records and CH Distillery provide the best cocktails in Chicago West Loop made with own liqueurs production.\n\n\n \n\n\nDj GArRinchA (Brazil / Berlin)\n\n\n 
URL:https://roots.tdrgo.co/event/ch-distillery-mar16/
LOCATION:CH Distillery\, 564 W Randolph St\, Chicago\, IL\, 60661\, United States
CATEGORIES:live DJ set
ATTACH;FMTTYPE=image/png:https://roots.tdrgo.co/wp-content/uploads/2017/06/FLYER-CHDistillery-170617-RGB-300x-v2.png
END:VEVENT
BEGIN:VEVENT
DTSTART;TZID=Europe/Helsinki:20180223T200000
DTEND;TZID=Europe/Helsinki:20180224T010000
DTSTAMP:20260420T033221
CREATED:20180314T154200Z
LAST-MODIFIED:20180314T154321Z
UID:16376-1519416000-1519434000@roots.tdrgo.co
SUMMARY:CH Distillery Chicago ★
DESCRIPTION:The mission is simple! we provide best Brazil & Latin vintage records and CH Distillery provide the best cocktails in Chicago West Loop made with own liqueurs production.\n\n\n \n\n\nDj GArRinchA (Brazil / Berlin)\n\n\n 
URL:https://roots.tdrgo.co/event/ch-distillery-feb23/
LOCATION:CH Distillery\, 564 W Randolph St\, Chicago\, IL\, 60661\, United States
CATEGORIES:live DJ set
ATTACH;FMTTYPE=image/png:https://roots.tdrgo.co/wp-content/uploads/2017/06/FLYER-CHDistillery-170617-RGB-300x-v2.png
END:VEVENT
BEGIN:VEVENT
DTSTART;TZID=Europe/Helsinki:20180126T200000
DTEND;TZID=Europe/Helsinki:20180127T010000
DTSTAMP:20260420T033221
CREATED:20180314T154342Z
LAST-MODIFIED:20240613T104935Z
UID:16378-1516996800-1517014800@roots.tdrgo.co
SUMMARY:CH Distillery Chicago ★
DESCRIPTION:The mission is simple! we provide best Brazil & Latin vintage records and CH Distillery provide the best cocktails in Chicago West Loop made with own liqueurs production.\n\n\n \n\n\nDj GArRinchA (Brazil / Berlin)\n\n\n 
URL:https://roots.tdrgo.co/event/ch-distillery-jan23/
LOCATION:CH Distillery\, 564 W Randolph St\, Chicago\, IL\, 60661\, United States
CATEGORIES:live DJ set
ATTACH;FMTTYPE=image/jpeg:https://roots.tdrgo.co/wp-content/uploads/2018/03/CH-distilery-260118.jpg
END:VEVENT
BEGIN:VEVENT
DTSTART;TZID=Europe/Helsinki:20170728T200000
DTEND;TZID=Europe/Helsinki:20170729T200000
DTSTAMP:20260420T033221
CREATED:20171120T184255Z
LAST-MODIFIED:20240613T104859Z
UID:15647-1501272000-1501358400@roots.tdrgo.co
SUMMARY:CH Distillery Chicago ★
DESCRIPTION:For the first time inna Xicago City Dj GArRinchA´s Tropical Diaspora goes for a strictly vinyl spinning with the masters of Sonorama Discos. The mission is simple! we provide best Brazil & Latin vintage records and CH Distillery provide the best cocktails in Chicago West Loop made with own liqueurs production.\n\n\n \n\n\nDj GArRinchA (Brazil / Berlin)\n\n\nDj Charlie (Mexico / Chicago)
URL:https://roots.tdrgo.co/event/ch-distillery-aug4-copy-2/
LOCATION:CH Distillery\, 564 W Randolph St\, Chicago\, IL\, 60661\, United States
CATEGORIES:live DJ set
ATTACH;FMTTYPE=image/png:https://roots.tdrgo.co/wp-content/uploads/2017/06/FLYER-CHDistillery-170617-RGB-300x-v2.png
END:VEVENT
BEGIN:VEVENT
DTSTART;TZID=Europe/Helsinki:20170728T200000
DTEND;TZID=Europe/Helsinki:20170729T200000
DTSTAMP:20260420T033221
CREATED:20170727T192137Z
LAST-MODIFIED:20240613T104859Z
UID:14815-1501272000-1501358400@roots.tdrgo.co
SUMMARY:CH Distillery Chicago ★ TD® Revolve VOL.13
DESCRIPTION:For the first time inna Xicago City Dj GArRinchA´s Tropical Diaspora goes for a strictly vinyl spinning with the masters of Sonorama Discos. The mission is simple! we provide best Brazil & Latin vintage records and CH Distillery provide the best cocktails in Chicago West Loop made with own liqueurs production.\n\n\n \n\n\nDj GArRinchA (Brazil / Berlin)\n\n\nDj Charlie (Mexico / Chicago)
URL:https://roots.tdrgo.co/event/ch-distillery-aug4/
LOCATION:CH Distillery\, 564 W Randolph St\, Chicago\, IL\, 60661\, United States
CATEGORIES:live DJ set
ATTACH;FMTTYPE=image/png:https://roots.tdrgo.co/wp-content/uploads/2017/06/FLYER-CHDistillery-170617-RGB-300x-v2.png
END:VEVENT
BEGIN:VEVENT
DTSTART;TZID=America/Chicago:20170708T180000
DTEND;TZID=America/Chicago:20170708T210000
DTSTAMP:20260420T033221
CREATED:20170708T172936Z
LAST-MODIFIED:20240613T104859Z
UID:14738-1499536800-1499547600@roots.tdrgo.co
SUMMARY:Tropical Diaspora® Records goes 606 Records Chicago
DESCRIPTION:In-store live DJ set with: DJ GArRinchA (Sao Paulo / Berlin). Strictly vinyl: rare Afro-Brazilian\, Latin and American Grooves with Tropical Diaspora Records Limited Releases for sale! \nTropical Diaspora® Records is a Record Label and an Event as Tropical Diaspora established in Berlin with one mission: the spread of the great heritage of the African musical Diasporas from mainland Africa into the Americas and World Wide. With this aim in mind we are committed to produce and press vinyl records to disseminate the Diaspora sound.
URL:https://roots.tdrgo.co/event/in-store-606-records-0807/
LOCATION:606 Record Store\, 1808 S Allport St\, Chicago\, 60608\, United States
CATEGORIES:live DJ set
ATTACH;FMTTYPE=image/png:https://roots.tdrgo.co/wp-content/uploads/2016/07/TDR-RecordStores_Logo_400x400_606Chicago_v1.png
END:VEVENT
BEGIN:VEVENT
DTSTART;TZID=America/Chicago:20170617T190000
DTEND;TZID=America/Chicago:20170617T235900
DTSTAMP:20260420T033221
CREATED:20170617T172855Z
LAST-MODIFIED:20240613T104900Z
UID:14571-1497726000-1497743940@roots.tdrgo.co
SUMMARY:CH Distillery Chicago ★ TD® Revolve VOL.8
DESCRIPTION:The practice is straightforward! We provide best strictly vinyl Afro Diaspora New World Sound and CH Distillery provide the best cocktails in Chicago West Loop made with own liqueurs production.\n\nDj GArRinchA (Brazil / Berlin) \nGuests\nDjs Charly & Señor Eddy (Sonorama Chicago)\nDj Clarck Quente (Chicago)
URL:https://roots.tdrgo.co/event/chicago-revolve-vol2/
LOCATION:CH Distillery\, 564 W Randolph St\, Chicago\, IL\, 60661\, United States
CATEGORIES:live DJ set
ATTACH;FMTTYPE=image/png:https://roots.tdrgo.co/wp-content/uploads/2017/06/FLYER-CHDistillery-170617-RGB-300x-v2.png
ORGANIZER;CN="TROPICAL DIASPORA%C2%AE Records":MAILTO:info@tdrgo.com
END:VEVENT
BEGIN:VEVENT
DTSTART;TZID=Europe/Helsinki:20170525T200000
DTEND;TZID=Europe/Helsinki:20170525T233000
DTSTAMP:20260420T033221
CREATED:20170617T172226Z
LAST-MODIFIED:20240613T104900Z
UID:14566-1495742400-1495755000@roots.tdrgo.co
SUMMARY:CH Distillery Chicago ★ TD® Revolve VOL.7
DESCRIPTION:For the first time inna Xicago City Dj GArRinchA´s Tropical Diaspora goes for a strictly vinyl spinning with the masters of Sonorama Discos. The mission is simple! we provide best Brazil & Latin vintage records and CH Distillery provide the best cocktails in Chicago West Loop made with own liqueurs production.\n\n\n \n\n\nDj GArRinchA (Brazil / Berlin)\n\n\nDj Charlie (Mexico / Chicago)
URL:https://roots.tdrgo.co/event/chicago-revolve-vol1/
LOCATION:CH Distillery\, 564 W Randolph St\, Chicago\, IL\, 60661\, United States
CATEGORIES:live DJ set
END:VEVENT
BEGIN:VEVENT
DTSTART;TZID=America/Chicago:20161203T180000
DTEND;TZID=America/Chicago:20161203T210000
DTSTAMP:20260420T033221
CREATED:20161119T000239Z
LAST-MODIFIED:20240613T104829Z
UID:13296-1480788000-1480798800@roots.tdrgo.co
SUMMARY:606 Records Chicago Presents: Tropical Diaspora® Records
DESCRIPTION:In-store live DJ set with: DJ GArRinchA (Sao Paulo / Berlin). Strictly vinyl: rare Afro-Brazilian\, Latin and American Grooves with Tropical Diaspora Records Limited Releases for sale! \nTropical Diaspora® Records is a Record Label and an Event as Tropical Diaspora established in Berlin with one mission: the spread of the great heritage of the African musical Diasporas from mainland Africa into the Americas and World Wide. With this aim in mind we are committed to produce and press vinyl records to disseminate the Diaspora sound.
URL:https://roots.tdrgo.co/event/in-store-606-records/
LOCATION:606 Record Store\, 1808 S Allport St\, Chicago\, 60608\, United States
CATEGORIES:live DJ set
ATTACH;FMTTYPE=image/png:https://roots.tdrgo.co/wp-content/uploads/2016/07/TDR-RecordStores_Logo_400x400_606Chicago_v1.png
END:VEVENT
END:VCALENDAR